BEGIN:VCALENDAR
VERSION:2.0
PRODID:-//Musikverein Balingen e.V. - ECPv6.15.20//NONSGML v1.0//EN
CALSCALE:GREGORIAN
METHOD:PUBLISH
X-ORIGINAL-URL:https://mv-balingen.de
X-WR-CALDESC:Veranstaltungen für Musikverein Balingen e.V.
REFRESH-INTERVAL;VALUE=DURATION:PT1H
X-Robots-Tag:noindex
X-PUBLISHED-TTL:PT1H
BEGIN:VTIMEZONE
TZID:Europe/Paris
BEGIN:DAYLIGHT
TZOFFSETFROM:+0100
TZOFFSETTO:+0200
TZNAME:CEST
DTSTART:20240331T010000
END:DAYLIGHT
BEGIN:STANDARD
TZOFFSETFROM:+0200
TZOFFSETTO:+0100
TZNAME:CET
DTSTART:20241027T010000
END:STANDARD
BEGIN:DAYLIGHT
TZOFFSETFROM:+0100
TZOFFSETTO:+0200
TZNAME:CEST
DTSTART:20250330T010000
END:DAYLIGHT
BEGIN:STANDARD
TZOFFSETFROM:+0200
TZOFFSETTO:+0100
TZNAME:CET
DTSTART:20251026T010000
END:STANDARD
BEGIN:DAYLIGHT
TZOFFSETFROM:+0100
TZOFFSETTO:+0200
TZNAME:CEST
DTSTART:20260329T010000
END:DAYLIGHT
BEGIN:STANDARD
TZOFFSETFROM:+0200
TZOFFSETTO:+0100
TZNAME:CET
DTSTART:20261025T010000
END:STANDARD
END:VTIMEZONE
BEGIN:VEVENT
DTSTART;VALUE=DATE:20250712
DTEND;VALUE=DATE:20250714
DTSTAMP:20260426T053849
CREATED:20240522T150505Z
LAST-MODIFIED:20250605T142041Z
UID:4034-1752278400-1752451199@mv-balingen.de
SUMMARY:Gartenfest
DESCRIPTION:Auch dieses Jahr starten wir wieder unser großes Gartenfest in den Eyachauen beim Jugendhaus in Balingen. \n   \nMit guter Blasmusik und leckeren Speisen sowie kühlen Getränken vom Weizenstand oder unserer Cocktailbar genießen wir am Samstag sowie am Sonntag den Sommer. \nWir freuen uns auf Sie!
URL:https://mv-balingen.de/event/gartenfest/
LOCATION:Balingen Eyach Auen\, Hindenburgstraße 68/1\, Balingen\, Baden-Württemberg\, 72336\, Deutschland
CATEGORIES:Unterhaltungsauftritt
END:VEVENT
END:VCALENDAR